BEGIN:VCALENDAR
VERSION:2.0
PRODID:KKTIX
CALSCALE:GREGORIAN
METHOD:PUBLISH
BEGIN:VTIMEZONE
TZID:Asia/Taipei
END:VTIMEZONE
BEGIN:VEVENT
DTSTAMP:20260420T160750Z
UID:37d806da-11df-46c8-853b-3993231e8ff2
DTSTART:20220810T110000Z
DTEND:20220810T120000Z
CLASS:PUBLIC
DESCRIPTION:https://8hr5b107a.kktix.cc/events/8hr5b107a
LOCATION: (106台北市大安區新生南路三段30號) 福華國際文教
 會館
SUMMARY:站大師肩上創意繪畫-總匯世界級大師獨門技藝教學
  (8/10免費體驗課)
END:VEVENT
END:VCALENDAR
